BEGIN:VCALENDAR
VERSION:2.0
PRODID:-//Track Heroes - ECPv6.15.20//NONSGML v1.0//EN
CALSCALE:GREGORIAN
METHOD:PUBLISH
X-WR-CALNAME:Track Heroes
X-ORIGINAL-URL:https://trackheroes.org
X-WR-CALDESC:Events for Track Heroes
REFRESH-INTERVAL;VALUE=DURATION:PT1H
X-Robots-Tag:noindex
X-PUBLISHED-TTL:PT1H
BEGIN:VTIMEZONE
TZID:UTC
BEGIN:STANDARD
TZOFFSETFROM:+0000
TZOFFSETTO:+0000
TZNAME:UTC
DTSTART:20240101T000000
END:STANDARD
END:VTIMEZONE
BEGIN:VEVENT
DTSTART;TZID=UTC:20250206T123000
DTEND;TZID=UTC:20250206T133000
DTSTAMP:20260423T194801
CREATED:20250205T150209Z
LAST-MODIFIED:20250205T185202Z
UID:4261-1738845000-1738848600@trackheroes.org
SUMMARY:Speaking with the Kiwanis Club of Greenville\, SC
DESCRIPTION:Track Heroes\, will be hanging out with the amazing people of the Kiwanis Club of Greenville\, to introduce them to the science behind our Adaptive Control Program (ACP)\, and how the concepts can help any Veteran and/or First Responder. This event will take place February 6th at the Poinsett Club\, 807 E Washington\, Greenville\, SC \nWe’re looking forward to bringing awareness of our Program to the Greenville area and meeting some great people! Hope to see you there!! \nIf you are a Veteran an/or 1st Responder\, and are interested in some “HIGH SPEED MENTAL HEALTH\, please click the link below and register! \nREGISTER HERE \nThank you for your interest and we hope to see you on the track!
URL:https://trackheroes.org/event/speaking-with-the-kiwanis-club-of-greenville-sc/
LOCATION:Kiwanis Club of Greenville\, SC\, 807 E Washington\, greenville\, 29607\, United States
CATEGORIES:Speaking / Awareness Events
ATTACH;FMTTYPE=application/pdf:https://trackheroes.org/wp-content/uploads/2025/02/FUCHS_TRACK-HEROES_LOGO_FINAL_RED-BLACK.pdf
END:VEVENT
END:VCALENDAR